BEGIN:VCALENDAR
VERSION:2.0
PRODID:-//Lekebergs Revysällskap - ECPv6.15.20//NONSGML v1.0//EN
CALSCALE:GREGORIAN
METHOD:PUBLISH
X-WR-CALNAME:Lekebergs Revysällskap
X-ORIGINAL-URL:https://lekebergsrevyn.se
X-WR-CALDESC:Händelser för Lekebergs Revysällskap
REFRESH-INTERVAL;VALUE=DURATION:PT1H
X-Robots-Tag:noindex
X-PUBLISHED-TTL:PT1H
BEGIN:VTIMEZONE
TZID:Europe/Stockholm
BEGIN:DAYLIGHT
TZOFFSETFROM:+0100
TZOFFSETTO:+0200
TZNAME:CEST
DTSTART:20250330T010000
END:DAYLIGHT
BEGIN:STANDARD
TZOFFSETFROM:+0200
TZOFFSETTO:+0100
TZNAME:CET
DTSTART:20251026T010000
END:STANDARD
BEGIN:DAYLIGHT
TZOFFSETFROM:+0100
TZOFFSETTO:+0200
TZNAME:CEST
DTSTART:20260329T010000
END:DAYLIGHT
BEGIN:STANDARD
TZOFFSETFROM:+0200
TZOFFSETTO:+0100
TZNAME:CET
DTSTART:20261025T010000
END:STANDARD
BEGIN:DAYLIGHT
TZOFFSETFROM:+0100
TZOFFSETTO:+0200
TZNAME:CEST
DTSTART:20270328T010000
END:DAYLIGHT
BEGIN:STANDARD
TZOFFSETFROM:+0200
TZOFFSETTO:+0100
TZNAME:CET
DTSTART:20271031T010000
END:STANDARD
END:VTIMEZONE
BEGIN:VEVENT
DTSTART;TZID=Europe/Stockholm:20260425T190000
DTEND;TZID=Europe/Stockholm:20260425T213000
DTSTAMP:20260425T194216
CREATED:20260226T111607Z
LAST-MODIFIED:20260407T090106Z
UID:4366-1777143600-1777152600@lekebergsrevyn.se
SUMMARY:FARS – FULL OCKUPATION AV HOTELL RIVALL
DESCRIPTION:Några medlemmar i Humorgruppen Gillet intar scenen och spelar en nyskriven och fartfylld fars i två riviga akter.\nMånga skratt utlovas när man bjuder på mycket slapstick och smäll i dörrarna i sann farsanda.\nFöreställningen passar både gammal som ung. \nFikaservering.\nEntré 200 kronor \nBiljetter bokas här!
URL:https://lekebergsrevyn.se/evenemang/fars-full-ockupation-av-hotell-rivall-2/
LOCATION:Sparbanksbörsen\, Vallgatan 43\, Fjugesta\, 716 31
CATEGORIES:Fars
ATTACH;FMTTYPE=image/jpeg:https://lekebergsrevyn.se/wp-content/uploads/2026/02/Full-ockuppation-av-hetell-Rivall-webb.jpg
ORGANIZER;CN="Lekebergs Revys%C3%A4llskap":MAILTO:info@lekebergsrevyn.se
END:VEVENT
END:VCALENDAR