BEGIN:VCALENDAR
VERSION:2.0
PRODID:-//Lekebergs Revysällskap - ECPv6.15.20//NONSGML v1.0//EN
CALSCALE:GREGORIAN
METHOD:PUBLISH
X-ORIGINAL-URL:https://lekebergsrevyn.se
X-WR-CALDESC:Händelser för Lekebergs Revysällskap
REFRESH-INTERVAL;VALUE=DURATION:PT1H
X-Robots-Tag:noindex
X-PUBLISHED-TTL:PT1H
BEGIN:VTIMEZONE
TZID:Europe/Stockholm
BEGIN:DAYLIGHT
TZOFFSETFROM:+0100
TZOFFSETTO:+0200
TZNAME:CEST
DTSTART:20250330T010000
END:DAYLIGHT
BEGIN:STANDARD
TZOFFSETFROM:+0200
TZOFFSETTO:+0100
TZNAME:CET
DTSTART:20251026T010000
END:STANDARD
BEGIN:DAYLIGHT
TZOFFSETFROM:+0100
TZOFFSETTO:+0200
TZNAME:CEST
DTSTART:20260329T010000
END:DAYLIGHT
BEGIN:STANDARD
TZOFFSETFROM:+0200
TZOFFSETTO:+0100
TZNAME:CET
DTSTART:20261025T010000
END:STANDARD
BEGIN:DAYLIGHT
TZOFFSETFROM:+0100
TZOFFSETTO:+0200
TZNAME:CEST
DTSTART:20270328T010000
END:DAYLIGHT
BEGIN:STANDARD
TZOFFSETFROM:+0200
TZOFFSETTO:+0100
TZNAME:CET
DTSTART:20271031T010000
END:STANDARD
END:VTIMEZONE
BEGIN:VEVENT
DTSTART;TZID=Europe/Stockholm:20260429T190000
DTEND;TZID=Europe/Stockholm:20260429T210000
DTSTAMP:20260426T013139
CREATED:20260331T163153Z
LAST-MODIFIED:20260331T163153Z
UID:4438-1777489200-1777496400@lekebergsrevyn.se
SUMMARY:Vetenskapspub om hotet från insidan
DESCRIPTION:En aktuell och intressant föreläsning hålls den 29 april på Sparbanksbörsen. Då kommer Carolina Angelis\, tidigare underrättelseofficer och nu aktuell med sin spionroman Rubicon. Hon pratar om hur det försämrade omvärldsläget påverkar samhällssäkerheten på olika sätt. \nDetta är en vetenskapspub vilket innebär att det är fri entré och öppen bar. \nFöreläsningen börjar kl 19.00 och vi öppnar en timme innan.\nKom i god tid\, vi tror att det blir en välbesökt tillställning.\nIngen anmälan.
URL:https://lekebergsrevyn.se/evenemang/vetenskapspub-om-hotet-fran-insidan/
LOCATION:Sparbanksbörsen\, Vallgatan 43\, Fjugesta\, 716 31
CATEGORIES:Vetenskapspub
ATTACH;FMTTYPE=image/jpeg:https://lekebergsrevyn.se/wp-content/uploads/2026/03/Carolina-Angelis_puff.jpg
ORGANIZER;CN="Lekebergs Revys%C3%A4llskap":MAILTO:info@lekebergsrevyn.se
END:VEVENT
BEGIN:VEVENT
DTSTART;TZID=Europe/Stockholm:20260502T190000
DTEND;TZID=Europe/Stockholm:20260502T213000
DTSTAMP:20260426T013139
CREATED:20260226T111827Z
LAST-MODIFIED:20260407T085828Z
UID:4368-1777748400-1777757400@lekebergsrevyn.se
SUMMARY:FARS – FULL OCKUPATION AV HOTELL RIVALL
DESCRIPTION:Några medlemmar i Humorgruppen Gillet intar scenen och spelar en nyskriven och fartfylld fars i två riviga akter.\nMånga skratt utlovas när man bjuder på mycket slapstick och smäll i dörrarna i sann farsanda.\nFöreställningen passar både gammal som ung. \nFikaservering.\nEntré 200 kronor \nBiljetter bokas här!
URL:https://lekebergsrevyn.se/evenemang/fars-full-ockupation-av-hotell-rivall-3/
LOCATION:Sparbanksbörsen\, Vallgatan 43\, Fjugesta\, 716 31
CATEGORIES:Fars
ATTACH;FMTTYPE=image/jpeg:https://lekebergsrevyn.se/wp-content/uploads/2026/02/Full-ockuppation-av-hetell-Rivall-webb.jpg
ORGANIZER;CN="Lekebergs Revys%C3%A4llskap":MAILTO:info@lekebergsrevyn.se
END:VEVENT
BEGIN:VEVENT
DTSTART;TZID=Europe/Stockholm:20260503T150000
DTEND;TZID=Europe/Stockholm:20260503T173000
DTSTAMP:20260426T013139
CREATED:20260226T112035Z
LAST-MODIFIED:20260407T085802Z
UID:4370-1777820400-1777829400@lekebergsrevyn.se
SUMMARY:FARS – FULL OCKUPATION AV HOTELL RIVALL
DESCRIPTION:Några medlemmar i Humorgruppen Gillet intar scenen och spelar en nyskriven och fartfylld fars i två riviga akter.\nMånga skratt utlovas när man bjuder på mycket slapstick och smäll i dörrarna i sann farsanda.\nFöreställningen passar både gammal som ung. \nFikaservering.\nEntré 200 kronor \nBiljetter bokas här!
URL:https://lekebergsrevyn.se/evenemang/fars-full-ockupation-av-hotell-rivall-4/
LOCATION:Sparbanksbörsen\, Vallgatan 43\, Fjugesta\, 716 31
CATEGORIES:Fars
ATTACH;FMTTYPE=image/jpeg:https://lekebergsrevyn.se/wp-content/uploads/2026/02/Full-ockuppation-av-hetell-Rivall-webb.jpg
ORGANIZER;CN="Lekebergs Revys%C3%A4llskap":MAILTO:info@lekebergsrevyn.se
END:VEVENT
BEGIN:VEVENT
DTSTART;TZID=Europe/Stockholm:20260508T190000
DTEND;TZID=Europe/Stockholm:20260508T213000
DTSTAMP:20260426T013139
CREATED:20260226T112252Z
LAST-MODIFIED:20260407T085741Z
UID:4372-1778266800-1778275800@lekebergsrevyn.se
SUMMARY:FARS – FULL OCKUPATION AV HOTELL RIVALL
DESCRIPTION:Några medlemmar i Humorgruppen Gillet intar scenen och spelar en nyskriven och fartfylld fars i två riviga akter.\nMånga skratt utlovas när man bjuder på mycket slapstick och smäll i dörrarna i sann farsanda.\nFöreställningen passar både gammal som ung. \nFikaservering.\nEntré 200 kronor \nBiljetter bokas här!
URL:https://lekebergsrevyn.se/evenemang/fars-full-ockupation-av-hotell-rivall-5/
LOCATION:Sparbanksbörsen\, Vallgatan 43\, Fjugesta\, 716 31
CATEGORIES:Fars
ATTACH;FMTTYPE=image/jpeg:https://lekebergsrevyn.se/wp-content/uploads/2026/02/Full-ockuppation-av-hetell-Rivall-webb.jpg
ORGANIZER;CN="Lekebergs Revys%C3%A4llskap":MAILTO:info@lekebergsrevyn.se
END:VEVENT
BEGIN:VEVENT
DTSTART;TZID=Europe/Stockholm:20260509T190000
DTEND;TZID=Europe/Stockholm:20260509T213000
DTSTAMP:20260426T013139
CREATED:20260226T112434Z
LAST-MODIFIED:20260407T085714Z
UID:4374-1778353200-1778362200@lekebergsrevyn.se
SUMMARY:FARS – FULL OCKUPATION AV HOTELL RIVALL
DESCRIPTION:Några medlemmar i Humorgruppen Gillet intar scenen och spelar en nyskriven och fartfylld fars i två riviga akter.\nMånga skratt utlovas när man bjuder på mycket slapstick och smäll i dörrarna i sann farsanda.\nFöreställningen passar både gammal som ung. \nFikaservering.\nEntré 200 kronor \nBiljetter bokas här!
URL:https://lekebergsrevyn.se/evenemang/fars-full-ockupation-av-hotell-rivall-6/
LOCATION:Sparbanksbörsen\, Vallgatan 43\, Fjugesta\, 716 31
CATEGORIES:Fars
ATTACH;FMTTYPE=image/jpeg:https://lekebergsrevyn.se/wp-content/uploads/2026/02/Full-ockuppation-av-hetell-Rivall-webb.jpg
ORGANIZER;CN="Lekebergs Revys%C3%A4llskap":MAILTO:info@lekebergsrevyn.se
END:VEVENT
BEGIN:VEVENT
DTSTART;TZID=Europe/Stockholm:20260529T200000
DTEND;TZID=Europe/Stockholm:20260529T223000
DTSTAMP:20260426T013139
CREATED:20251125T085753Z
LAST-MODIFIED:20251125T085753Z
UID:4233-1780084800-1780093800@lekebergsrevyn.se
SUMMARY:The Boppin Cats
DESCRIPTION:The Boppin Cats- bandet som kallats ”det nya Boppers” kommer åter till Sparbanksbörsen för en kväll i sann 50 och 60 talsanda. \nEvenemanget startar klockan 20.00 och slutar ca 22.30. \nInträde: 350 kronor. \nBiljetterna bokas här! \nVarmt välkomna!
URL:https://lekebergsrevyn.se/evenemang/the-boppin-cats/
LOCATION:Sparbanksbörsen\, Vallgatan 43\, Fjugesta\, 716 31
CATEGORIES:Konsert
ATTACH;FMTTYPE=image/jpeg:https://lekebergsrevyn.se/wp-content/uploads/2025/11/BoppinCats2-webb.jpg
ORGANIZER;CN="Lekebergs Revys%C3%A4llskap":MAILTO:info@lekebergsrevyn.se
END:VEVENT
END:VCALENDAR